BEGIN:VCALENDAR
VERSION:2.0
PRODID:-//Darling Range Sports College - ECPv6.15.14//NONSGML v1.0//EN
CALSCALE:GREGORIAN
METHOD:PUBLISH
X-ORIGINAL-URL:https://darlingrangesc.wa.edu.au
X-WR-CALDESC:Events for Darling Range Sports College
REFRESH-INTERVAL;VALUE=DURATION:PT1H
X-Robots-Tag:noindex
X-PUBLISHED-TTL:PT1H
BEGIN:VTIMEZONE
TZID:Australia/Perth
BEGIN:STANDARD
TZOFFSETFROM:+0800
TZOFFSETTO:+0800
TZNAME:AWST
DTSTART:20250101T000000
END:STANDARD
END:VTIMEZONE
BEGIN:VEVENT
DTSTART;VALUE=DATE:20260129
DTEND;VALUE=DATE:20260130
DTSTAMP:20260424T112310
CREATED:20260312T023047Z
LAST-MODIFIED:20260312T023047Z
UID:2364-1769644800-1769731199@darlingrangesc.wa.edu.au
SUMMARY:Staff Development Day
DESCRIPTION:
URL:https://darlingrangesc.wa.edu.au/event/staff-development-day-4/
CATEGORIES:Staff Development Days
END:VEVENT
END:VCALENDAR